Workbook
Name adpi.: #REF!

Sheet CSS-FD
C2: SMARTEMP PRODUCT SELECTION CALCULATOR
C3: Auditorium Step Diffuser [CSS-FD]
C6: Inputs | K6: v 1.7 [06/2017]
C8: Airflow Rate | D8: 12 | E8: L/s | F8: m3/h
C10: Maximum Permissible Total Pressure | D10: 20 | E10: Pa | F10: default 20 Pa
C13: Results
D14: ='CSS-FD equations'!B20 -> DN100 | E14: DN125
C15: Sound Power Level (dB(A)) | D15: =IF('CSS-FD equations'!B23>=5,'CSS-FD equations'!B23,"< 5") -> 19.891954 | E15: =IF('CSS-FD equations'!C23>=5,'CSS-FD equations'!C23,"< 5") -> 9.7172123
C16: Sound Pressure Level (dB(A)) ** | D16: =IF('CSS-FD equations'!B24>=15,'CSS-FD equations'!B24,"< 15") -> 30.891954 | E16: =IF('CSS-FD equations'!C24>=15,'CSS-FD equations'!C24,"< 15") -> 19.820341
C17: Sound Pressure Level (NC) ** | D17: =IF('CSS-FD equations'!B25>=15,'CSS-FD equations'!B25,"< 15") -> 23.812605 | E17: =IF('CSS-FD equations'!C25>=15,'CSS-FD equations'!C25,"< 15") -> < 15 | F17: Key: | G17: Suitable | H17: Not Suitable | I17: Warning
C18: Total Pressure (Pa) | D18: =IF('CSS-FD equations'!B26>5,'CSS-FD equations'!B26,"< 5") -> 29.896194 | E18: =IF('CSS-FD equations'!C26>5,'CSS-FD equations'!C26,"< 5") -> 10.276687 | F18: * | G18: Refer to 'Notes CSS-FD' worksheet for notes and diffuser sizing
C19: Max Selected Total Pressure (Pa) | D19: ='CSS-FD equations'!B27 -> 20 | E19: ='CSS-FD equations'!C27 -> 20 | F19: ** | G19: Estimated sound pressure level for seated auditorium occupant based on one diffuser per seat
G20: Refer to 'Acoustics CSS-FD' worksheet for detailed acoustic data
D21: click to see product on smartair.asia | J21: Copyright © 2017 SMARTAIR DIFFUSION

Sheet CSS-FD equations
A1: Unit Selection
A3: Unit Type | B3: 1
A4: Unit Multiplier | B4: =IF(B3=1,1,3.6) -> 1
A6: Input Values
A8: Airflow Rate | B8: ='CSS-FD'!$D$8/B4 -> 12 | D8: 4.9 L/s | E8: 19 L/s
A9: Max Pressure | B9: ='CSS-FD'!D10 -> 20
A11: 100 | H11: 125
A12: Max Recommended Airflow | B12: =D14*SQRT($B$9/E14) -> 9.8149546 | H12: Max Recommended Airflow | I12: =K14*SQRT($B$9/L14) -> 16.740548
A13: SWL (dB(A)) | B13: =D13*LN($B$8)+E13 -> 22.85294 | D13: 34.92 | E13: -63.92 | H13: SWL (dB(A)) | I13: =K13*LN($B$8)+L13 -> 8.2901984 | K13: 28.94 | L13: -63.623
A14: Total Pressure Drop (Pa) | B14: =E14*($B$8/D14)^2 -> 29.896194 | C14: Q-P | D14: 8.5 | E14: 15 | H14: Total Pressure Drop | I14: =L14*($B$8/K14)^2 -> 10.276687 | J14: Q-P | K14: 16 | L14: 18.269666
A20: Results | B20: DN100 | C20: DN125
A21: Max Selected Airflow | B21: =$B$8 -> 12 | C21: =$B$8 -> 12
A22: Max Recommended Airflow | B22: =B12 -> 9.8149546 | C22: =I12 -> 16.740548
A23: SWL (dB(A)) | B23: =H36 -> 19.891954 | C23: =H46 -> 9.7172123
A24: SPL (db(A)) | B24: =H39 -> 30.891954 | C24: =H49 -> 19.820341
A25: SPL (NC) | B25: =H40 -> 23.812605 | C25: =H50 -> < 15
A26: Total Pressure Drop (Pa) | B26: =B14 -> 29.896194 | C26: =I14 -> 10.276687
A27: Max Permissible Pressure | B27: =$B$9 -> 20 | C27: =$B$9 -> 20
A31: Acoustic
A33: DN100 | B33: 125 Hz | C33: 250 Hz | D33: 500 Hz | E33: 1000 Hz | F33: 2000 Hz | G33: 4000 Hz
A34: =$B$26 -> 29.896194 | B34: =MAX(13.663*LN(A34)-26.331,0) -> 20.092201 | C34: =MAX(13.663*LN(A34)-22.331,0) -> 24.092201 | D34: =MAX(11.89*LN(A34)-22.613,0) -> 17.786024 | E34: =MAX(11.888*LN(A34)-25.613,0) -> 14.779228 | F34: 0 | G34: 0
A35: SWL (Val) | B35: =IF(B34>=5,B34,"< 5") -> 20.092201 | C35: =IF(C34>=5,C34,"< 5") -> 24.092201 | D35: =IF(D34>=5,D34,"< 5") -> 17.786024 | E35: =IF(E34>=5,E34,"< 5") -> 14.779228 | F35: =IF(F34>=5,F34,"< 5") -> < 5 | G35: =IF(G34>=5,G34,"< 5") -> < 5
A36: A-Weight SWL | B36: =MAX(B34+B37,0) -> 4.092201 | C36: =MAX(C34+C37,0) -> 15.092201 | D36: =MAX(D34+D37,0) -> 14.786024 | E36: =MAX(E34+E37,0) -> 14.779228 | F36: =MAX(F34+F37,0) -> 1 | G36: =MAX(G34+G37,0) -> 1 | H36: =10*LOG(10^(B36/10)+10^(C36/10)+10^(D36/10)+10^(E36/10)+10^(F36/10)+10^(G36/10)) -> 19.891954 | I36: dBA
A37: A-Weight | B37: -16 | C37: -9 | D37: -3 | E37: 0 | F37: 1 | G37: 1
A38: SPressureL | B38: =B34+11 -> 31.092201 | C38: =C34+11 -> 35.092201 | D38: =D34+11 -> 28.786024 | E38: =E34+11 -> 25.779228 | F38: =F34+11 -> 11 | G38: =G34+11 -> 11
A39: A-weight SPL | B39: =B38+B37 -> 15.092201 | C39: =C38+C37 -> 26.092201 | D39: =D38+D37 -> 25.786024 | E39: =E38+E37 -> 25.779228 | F39: =F38+F37 -> 12 | G39: =G38+G37 -> 12 | H39: =10*LOG(10^(B39/10)+10^(C39/10)+10^(D39/10)+10^(E39/10)+10^(F39/10)+10^(G39/10)) -> 30.891954 | I39: dBA
A40: NC | B40: =-33.98+1.31*B38 -> 6.7507833 | C40: =-20.2+1.2*C38 -> 21.910641 | D40: =-9.73+1.11*D38 -> 22.222486 | E40: =-2.74+1.03*E38 -> 23.812605 | F40: =0.6+1*F38 -> 11.6 | G40: =3.63+0.97*G38 -> 14.3 | H40: =IF(MAX(B40:G40)<15,"< 15",MAX(B40:G40)) -> 23.812605 | I40: NC
A43: DN125 | B43: 125 Hz | C43: 250 Hz | D43: 500 Hz | E43: 1000 Hz | F43: 2000 Hz | G43: 4000 Hz
A44: =$C$26 -> 10.276687 | B44: =MAX(11.174*LN(A44)-5.8795,0) -> 20.154556 | C44: =MAX(14.161*LN(A44)-20.272,0) -> 12.721402 | D44: =MAX(17.949*LN(A44)-37.324,0) -> 4.4949794 | E44: =MAX(21.161*LN(A44)-64.513,0) -> 0 | F44: -10 | G44: -10
A45: SWL (Val) | B45: =IF(B44>=5,B44,"< 5") -> 20.154556 | C45: =IF(C44>=5,C44,"< 5") -> 12.721402 | D45: =IF(D44>=5,D44,"< 5") -> < 5 | E45: =IF(E44>5,E44,"< 5") -> < 5 | F45: =IF(F44>5,F44,"< 5") -> < 5 | G45: =IF(G44>5,G44,"< 5") -> < 5
A46: A-Weight SWL | B46: =MAX(B44+B47,0) -> 4.1545562 | C46: =MAX(C44+C47,0) -> 3.7214017 | D46: =MAX(D44+D47,0) -> 1.4949794 | E46: =MAX(E44+E47,0) -> 0 | F46: =MAX(F44+F47,0) -> 0 | G46: =MAX(G44+G47,0) -> 0 | H46: =10*LOG(10^(B46/10)+10^(C46/10)+10^(D46/10)+10^(E46/10)+10^(F46/10)+10^(G46/10)) -> 9.7172123 | I46: dBA
A47: A-Weight | B47: -16 | C47: -9 | D47: -3 | E47: 0 | F47: 1 | G47: 1
A48: SPressureL | B48: =B44+11 -> 31.154556 | C48: =C44+11 -> 23.721402 | D48: =D44+11 -> 15.494979 | E48: =E44+11 -> 11 | F48: =F44+11 -> 1 | G48: =G44+11 -> 1
A49: A-weight SPL | B49: =B48+B47 -> 15.154556 | C49: =C48+C47 -> 14.721402 | D49: =D48+D47 -> 12.494979 | E49: =E48+E47 -> 11 | F49: =F48+F47 -> 2 | G49: =G48+G47 -> 2 | H49: =10*LOG(10^(B49/10)+10^(C49/10)+10^(D49/10)+10^(E49/10)+10^(F49/10)+10^(G49/10)) -> 19.820341 | I49: dBA
A50: NC | B50: =-33.98+1.31*B48 -> 6.8324687 | C50: =-20.2+1.2*C48 -> 8.265682 | D50: =-9.73+1.11*D48 -> 7.4694271 | E50: =-2.74+1.03*E48 -> 8.59 | F50: =0.6+1*F48 -> 1.6 | G50: =3.63+0.97*G48 -> 4.6 | H50: =IF(MAX(B50:G50)<15,"< 15",MAX(B50:G50)) -> < 15 | I50: NC
B59: 63 | C59: 125 | D59: 250 | E59: 500 | F59: 1000 | G59: 2000 | H59: 4000 | I59: 8000
A60: NC 15 | B60: 47 | C60: 36 | D60: 29 | E60: 22 | F60: 17 | G60: 14 | H60: 12 | I60: 11
A61: NC 20 | B61: 51 | C61: 41 | D61: 33 | E61: 26 | F61: 22 | G61: 19 | H61: 17 | I61: 16
A62: NC 25 | B62: 54 | C62: 45 | D62: 38 | E62: 31 | F62: 27 | G62: 24 | H62: 22 | I62: 21
A63: NC 30 | B63: 57 | C63: 48 | D63: 41 | E63: 35 | F63: 31 | G63: 29 | H63: 28 | I63: 27
A64: NC 35 | B64: 60 | C64: 53 | D64: 46 | E64: 40 | F64: 36 | G64: 34 | H64: 33 | I64: 32
A65: NC 40 | B65: 64 | C65: 57 | D65: 51 | E65: 45 | F65: 41 | G65: 39 | H65: 38 | I65: 37

Sheet Notes CSS-FD
C2: SMARTEMP PRODUCT SELECTION CALCULATOR
C3: Auditorium Step Diffuser [CSS-FD] Notes
C6: Diffuser Sizing
E8: DN100 | L8: DN125
L32: ALL DIMENSIONS IN mm

Sheet Acoustics CSS-FD
C2: SMARTEMP PRODUCT SELECTION CALCULATOR
C3: Auditorium Step Diffuser [CSS-FD] Acoustic Data
C6: DN100 | K6: DN125
D24: 125 | E24: 250 | F24: 500 | G24: 1000 | H24: 2000 | I24: 4000 | L24: 125 | M24: 250 | N24: 500 | O24: 1000 | P24: 2000 | Q24: 4000
D25: ='CSS-FD equations'!B38 -> 31.092201 | E25: ='CSS-FD equations'!C38 -> 35.092201 | F25: ='CSS-FD equations'!D38 -> 28.786024 | G25: ='CSS-FD equations'!E38 -> 25.779228 | H25: ='CSS-FD equations'!F38 -> 11 | I25: ='CSS-FD equations'!G38 -> 11 | L25: ='CSS-FD equations'!B48 -> 31.154556 | M25: ='CSS-FD equations'!C48 -> 23.721402 | N25: ='CSS-FD equations'!D48 -> 15.494979 | O25: ='CSS-FD equations'!E48 -> 11 | P25: ='CSS-FD equations'!F48 -> 1 | Q25: ='CSS-FD equations'!G48 -> 1
C30: DN100 | D30: 125 Hz | E30: 250 Hz | F30: 500 Hz | G30: 1000 Hz | H30: 2000 Hz | I30: 4000 Hz | K30: DN125 | L30: 125 Hz | M30: 250 Hz | N30: 500 Hz | O30: 1000 Hz | P30: 2000 Hz | Q30: 4000 Hz
C31: Sound Power Level (dB) | D31: ='CSS-FD equations'!B35 -> 20.092201 | E31: ='CSS-FD equations'!C35 -> 24.092201 | F31: ='CSS-FD equations'!D35 -> 17.786024 | G31: ='CSS-FD equations'!E35 -> 14.779228 | H31: ='CSS-FD equations'!F35 -> < 5 | I31: ='CSS-FD equations'!G35 -> < 5 | K31: Sound Power Level (dB) | L31: ='CSS-FD equations'!B45 -> 20.154556 | M31: ='CSS-FD equations'!C45 -> 12.721402 | N31: ='CSS-FD equations'!D45 -> < 5 | O31: ='CSS-FD equations'!E45 -> < 5 | P31: ='CSS-FD equations'!F45 -> < 5 | Q31: ='CSS-FD equations'!G45 -> < 5
C32: Sound Power Level [dB(A)] | D32: ='CSS-FD equations'!H36 -> 19.891954 | K32: Sound Power Level [dB(A)] | L32: ='CSS-FD equations'!H46 -> 9.7172123
C33: Sound Pressure Level [dB(A)] | D33: ='CSS-FD equations'!H39 -> 30.891954 | K33: Sound Pressure Level [dB(A)] | L33: ='CSS-FD equations'!H49 -> 19.820341
C34: Sound Pressure Level [NC] | D34: ='CSS-FD equations'!H40 -> 23.812605 | K34: Sound Pressure Level [NC] | L34: ='CSS-FD equations'!H50 -> < 15
